BEGIN:VCALENDAR
VERSION:2.0
PRODID:-//NetAuktion//NONSGML NetAuktion//SV
METHOD:PUBLISH
BEGIN:VEVENT
UID:20260425T134250-1537211868-netauktion.se
DTSTAMP:20260425T134250
DTSTART:20090515T012900
DTEND:20090515T013200
SUMMARY:Netauktion objekt 0017-087 Auktionspåminnelse
DESCRIPTION:Länk till objektet du var intresserad av: https://staging.netauktion.se/auktion/produkt/handhallet-ekolod-hawk-eye-ff3355p-36
END:VEVENT
END:VCALENDAR
