BEGIN:VCALENDAR
VERSION:2.0
PRODID:-//NetAuktion//NONSGML NetAuktion//SV
METHOD:PUBLISH
BEGIN:VEVENT
UID:20260421T102641-596233671-netauktion.se
DTSTAMP:20260421T102641
DTSTART:20080530T065700
DTEND:20080530T070000
SUMMARY:Netauktion objekt 0034-005 Auktionspåminnelse
DESCRIPTION:Länk till objektet du var intresserad av: https://staging.netauktion.se/auktion/produkt/5st-vridbara-solskydd-lamellgardiner
END:VEVENT
END:VCALENDAR
