BEGIN:VCALENDAR
VERSION:2.0
PRODID:-//NetAuktion//NONSGML NetAuktion//SV
METHOD:PUBLISH
BEGIN:VEVENT
UID:20260421T102854-164148571-netauktion.se
DTSTAMP:20260421T102854
DTSTART:20130130T025500
DTEND:20130130T025800
SUMMARY:Netauktion objekt 0743-729 Auktionspåminnelse
DESCRIPTION:Länk till objektet du var intresserad av: https://staging.netauktion.se/auktion/produkt/48-pojkfiguriner
END:VEVENT
END:VCALENDAR
