BEGIN:VCALENDAR
VERSION:2.0
PRODID:-//NetAuktion//NONSGML NetAuktion//SV
METHOD:PUBLISH
BEGIN:VEVENT
UID:20260425T134245-1215178095-netauktion.se
DTSTAMP:20260425T134245
DTSTART:20090515T013100
DTEND:20090515T013400
SUMMARY:Netauktion objekt 0017-105 Auktionspåminnelse
DESCRIPTION:Länk till objektet du var intresserad av: https://staging.netauktion.se/auktion/produkt/gangsnittshallare-for-svarv-m3-m10-6
END:VEVENT
END:VCALENDAR
