BEGIN:VCALENDAR
VERSION:2.0
PRODID:-//NetAuktion//NONSGML NetAuktion//SV
METHOD:PUBLISH
BEGIN:VEVENT
UID:20260421T104321-281198265-netauktion.se
DTSTAMP:20260421T104321
DTSTART:20090326T003300
DTEND:20090326T003600
SUMMARY:Netauktion objekt 0125-241 Auktionspåminnelse
DESCRIPTION:Länk till objektet du var intresserad av: https://staging.netauktion.se/auktion/produkt/skaraggregat
END:VEVENT
END:VCALENDAR
