BEGIN:VCALENDAR
VERSION:2.0
PRODID:-//NetAuktion//NONSGML NetAuktion//SV
METHOD:PUBLISH
BEGIN:VEVENT
UID:20260425T134313-939539871-netauktion.se
DTSTAMP:20260425T134313
DTSTART:20090514T020600
DTEND:20090514T020900
SUMMARY:Netauktion objekt 0179-015 Auktionspåminnelse
DESCRIPTION:Länk till objektet du var intresserad av: https://staging.netauktion.se/auktion/produkt/8-st-skyltdockor
END:VEVENT
END:VCALENDAR
