BEGIN:VCALENDAR
VERSION:2.0
PRODID:-//NetAuktion//NONSGML NetAuktion//SV
METHOD:PUBLISH
BEGIN:VEVENT
UID:20260421T104304-1173718805-netauktion.se
DTSTAMP:20260421T104304
DTSTART:20090326T004900
DTEND:20090326T005200
SUMMARY:Netauktion objekt 0223-001 Auktionspåminnelse
DESCRIPTION:Länk till objektet du var intresserad av: https://staging.netauktion.se/auktion/produkt/kontorsmobler-7
END:VEVENT
END:VCALENDAR
