BEGIN:VCALENDAR
VERSION:2.0
PRODID:-//NetAuktion//NONSGML NetAuktion//SV
METHOD:PUBLISH
BEGIN:VEVENT
UID:20260421T102832-1109448829-netauktion.se
DTSTAMP:20260421T102832
DTSTART:20090326T004000
DTEND:20090326T004300
SUMMARY:Netauktion objekt 0168-059 Auktionspåminnelse
DESCRIPTION:Länk till objektet du var intresserad av: https://staging.netauktion.se/auktion/produkt/exponeringsvagn-med-hjul-4
END:VEVENT
END:VCALENDAR
