BEGIN:VCALENDAR
VERSION:2.0
PRODID:-//NetAuktion//NONSGML NetAuktion//SV
METHOD:PUBLISH
BEGIN:VEVENT
UID:20260421T104427-211301920-netauktion.se
DTSTAMP:20260421T104427
DTSTART:20090326T004300
DTEND:20090326T004600
SUMMARY:Netauktion objekt 0168-063 Auktionspåminnelse
DESCRIPTION:Länk till objektet du var intresserad av: https://staging.netauktion.se/auktion/produkt/forvaringsmobel-fran-martela
END:VEVENT
END:VCALENDAR
