BEGIN:VCALENDAR
VERSION:2.0
PRODID:-//NetAuktion//NONSGML NetAuktion//SV
METHOD:PUBLISH
BEGIN:VEVENT
UID:20260421T104309-1531810177-netauktion.se
DTSTAMP:20260421T104309
DTSTART:20090326T004800
DTEND:20090326T005100
SUMMARY:Netauktion objekt 0168-064 Auktionspåminnelse
DESCRIPTION:Länk till objektet du var intresserad av: https://staging.netauktion.se/auktion/produkt/arbetsplats-ikea-3
END:VEVENT
END:VCALENDAR
