BEGIN:VCALENDAR
VERSION:2.0
PRODID:-//NetAuktion//NONSGML NetAuktion//SV
METHOD:PUBLISH
BEGIN:VEVENT
UID:20260421T104317-1670587935-netauktion.se
DTSTAMP:20260421T104317
DTSTART:20090326T001600
DTEND:20090326T001900
SUMMARY:Netauktion objekt 0229-002 Auktionspåminnelse
DESCRIPTION:Länk till objektet du var intresserad av: https://staging.netauktion.se/auktion/produkt/komplett-kontor-med-besoksgrupp
END:VEVENT
END:VCALENDAR
