BEGIN:VCALENDAR
VERSION:2.0
PRODID:-//NetAuktion//NONSGML NetAuktion//SV
METHOD:PUBLISH
BEGIN:VEVENT
UID:20260421T104321-573463675-netauktion.se
DTSTAMP:20260421T104321
DTSTART:20090326T001200
DTEND:20090326T001500
SUMMARY:Netauktion objekt 0232-003 Auktionspåminnelse
DESCRIPTION:Länk till objektet du var intresserad av: https://staging.netauktion.se/auktion/produkt/3-mikrovagsugnar
END:VEVENT
END:VCALENDAR
