BEGIN:VCALENDAR
VERSION:2.0
PRODID:-//NetAuktion//NONSGML NetAuktion//SV
METHOD:PUBLISH
BEGIN:VEVENT
UID:20260421T104358-182569070-netauktion.se
DTSTAMP:20260421T104358
DTSTART:20090326T002000
DTEND:20090326T002300
SUMMARY:Netauktion objekt 0232-007 Auktionspåminnelse
DESCRIPTION:Länk till objektet du var intresserad av: https://staging.netauktion.se/auktion/produkt/arbetsplats-komplett
END:VEVENT
END:VCALENDAR
