BEGIN:VCALENDAR
VERSION:2.0
PRODID:-//NetAuktion//NONSGML NetAuktion//SV
METHOD:PUBLISH
BEGIN:VEVENT
UID:20260421T102745-4136947-netauktion.se
DTSTAMP:20260421T102745
DTSTART:20090326T002000
DTEND:20090326T002300
SUMMARY:Netauktion objekt 0232-009 Auktionspåminnelse
DESCRIPTION:Länk till objektet du var intresserad av: https://staging.netauktion.se/auktion/produkt/besoksstolar-5
END:VEVENT
END:VCALENDAR
