BEGIN:VCALENDAR
VERSION:2.0
PRODID:-//NetAuktion//NONSGML NetAuktion//SV
METHOD:PUBLISH
BEGIN:VEVENT
UID:20260425T134354-288523045-netauktion.se
DTSTAMP:20260425T134354
DTSTART:20090521T005900
DTEND:20090521T010200
SUMMARY:Netauktion objekt 0136-038 Auktionspåminnelse
DESCRIPTION:Länk till objektet du var intresserad av: https://staging.netauktion.se/auktion/produkt/4-fiskespon
END:VEVENT
END:VCALENDAR
