BEGIN:VCALENDAR
VERSION:2.0
PRODID:-//NetAuktion//NONSGML NetAuktion//SV
METHOD:PUBLISH
BEGIN:VEVENT
UID:20260421T104433-702152549-netauktion.se
DTSTAMP:20260421T104433
DTSTART:20121130T012100
DTEND:20121130T012400
SUMMARY:Netauktion objekt 1146-008 Auktionspåminnelse
DESCRIPTION:Länk till objektet du var intresserad av: https://staging.netauktion.se/auktion/produkt/set-4-delar-snoflinga-are-by-night-6
END:VEVENT
END:VCALENDAR
