BEGIN:VCALENDAR
VERSION:2.0
PRODID:-//NetAuktion//NONSGML NetAuktion//SV
METHOD:PUBLISH
BEGIN:VEVENT
UID:20260421T102744-1698016460-netauktion.se
DTSTAMP:20260421T102744
DTSTART:20121130T012600
DTEND:20121130T012900
SUMMARY:Netauktion objekt 1146-029 Auktionspåminnelse
DESCRIPTION:Länk till objektet du var intresserad av: https://staging.netauktion.se/auktion/produkt/parlhalsband-silverkedja-med-berlock-mm-3
END:VEVENT
END:VCALENDAR
