BEGIN:VCALENDAR
VERSION:2.0
PRODID:-//NetAuktion//NONSGML NetAuktion//SV
METHOD:PUBLISH
BEGIN:VEVENT
UID:20260425T134314-1659909487-netauktion.se
DTSTAMP:20260425T134314
DTSTART:20090521T010600
DTEND:20090521T010900
SUMMARY:Netauktion objekt 0238-005 Auktionspåminnelse
DESCRIPTION:Länk till objektet du var intresserad av: https://staging.netauktion.se/auktion/produkt/2-taklampor-med-prismor
END:VEVENT
END:VCALENDAR
