BEGIN:VCALENDAR
VERSION:2.0
PRODID:-//NetAuktion//NONSGML NetAuktion//SV
METHOD:PUBLISH
BEGIN:VEVENT
UID:20260421T104357-167972212-netauktion.se
DTSTAMP:20260421T104357
DTSTART:20130130T025700
DTEND:20130130T030000
SUMMARY:Netauktion objekt 1223-012 Auktionspåminnelse
DESCRIPTION:Länk till objektet du var intresserad av: https://staging.netauktion.se/auktion/produkt/hundtillbehor-passar-storre-hund-22
END:VEVENT
END:VCALENDAR
