BEGIN:VCALENDAR
VERSION:2.0
PRODID:-//NetAuktion//NONSGML NetAuktion//SV
METHOD:PUBLISH
BEGIN:VEVENT
UID:20260421T104454-1961682401-netauktion.se
DTSTAMP:20260421T104454
DTSTART:20130130T025800
DTEND:20130130T030100
SUMMARY:Netauktion objekt 1223-017 Auktionspåminnelse
DESCRIPTION:Länk till objektet du var intresserad av: https://staging.netauktion.se/auktion/produkt/hundtillbehor-passar-storre-hund-11
END:VEVENT
END:VCALENDAR
