BEGIN:VCALENDAR
VERSION:2.0
PRODID:-//NetAuktion//NONSGML NetAuktion//SV
METHOD:PUBLISH
BEGIN:VEVENT
UID:20260425T134424-659503756-netauktion.se
DTSTAMP:20260425T134424
DTSTART:20090515T005700
DTEND:20090515T010000
SUMMARY:Netauktion objekt 0188-005 Auktionspåminnelse
DESCRIPTION:Länk till objektet du var intresserad av: https://staging.netauktion.se/auktion/produkt/5st-nya-mattor-fran-studio
END:VEVENT
END:VCALENDAR
