BEGIN:VCALENDAR
VERSION:2.0
PRODID:-//NetAuktion//NONSGML NetAuktion//SV
METHOD:PUBLISH
BEGIN:VEVENT
UID:20260421T104304-1365997483-netauktion.se
DTSTAMP:20260421T104304
DTSTART:20121130T012200
DTEND:20121130T012500
SUMMARY:Netauktion objekt 1182-350 Auktionspåminnelse
DESCRIPTION:Länk till objektet du var intresserad av: https://staging.netauktion.se/auktion/produkt/gjutjarnsurnor-1-par-h47cm-10
END:VEVENT
END:VCALENDAR
