BEGIN:VCALENDAR
VERSION:2.0
PRODID:-//NetAuktion//NONSGML NetAuktion//SV
METHOD:PUBLISH
BEGIN:VEVENT
UID:20260421T104316-152002337-netauktion.se
DTSTAMP:20260421T104316
DTSTART:20121130T011100
DTEND:20121130T011400
SUMMARY:Netauktion objekt 1182-353 Auktionspåminnelse
DESCRIPTION:Länk till objektet du var intresserad av: https://staging.netauktion.se/auktion/produkt/gjutjarnsurnor-1-par-h49cm
END:VEVENT
END:VCALENDAR
