BEGIN:VCALENDAR
VERSION:2.0
PRODID:-//NetAuktion//NONSGML NetAuktion//SV
METHOD:PUBLISH
BEGIN:VEVENT
UID:20260421T104352-318771506-netauktion.se
DTSTAMP:20260421T104352
DTSTART:20121130T012800
DTEND:20121130T013100
SUMMARY:Netauktion objekt 1146-059 Auktionspåminnelse
DESCRIPTION:Länk till objektet du var intresserad av: https://staging.netauktion.se/auktion/produkt/smyckeset-4-delar-queen-black-5
END:VEVENT
END:VCALENDAR
