BEGIN:VCALENDAR
VERSION:2.0
PRODID:-//NetAuktion//NONSGML NetAuktion//SV
METHOD:PUBLISH
BEGIN:VEVENT
UID:20260421T102645-889415721-netauktion.se
DTSTAMP:20260421T102645
DTSTART:20121130T012900
DTEND:20121130T013200
SUMMARY:Netauktion objekt 1146-061 Auktionspåminnelse
DESCRIPTION:Länk till objektet du var intresserad av: https://staging.netauktion.se/auktion/produkt/smyckeset-4-delar-queen-pink
END:VEVENT
END:VCALENDAR
