BEGIN:VCALENDAR
VERSION:2.0
PRODID:-//NetAuktion//NONSGML NetAuktion//SV
METHOD:PUBLISH
BEGIN:VEVENT
UID:20260421T102935-1340705014-netauktion.se
DTSTAMP:20260421T102935
DTSTART:20121130T013100
DTEND:20121130T013400
SUMMARY:Netauktion objekt 1146-073 Auktionspåminnelse
DESCRIPTION:Länk till objektet du var intresserad av: https://staging.netauktion.se/auktion/produkt/smyckesset-4-delar-queen-black-4-5-2
END:VEVENT
END:VCALENDAR
