BEGIN:VCALENDAR
VERSION:2.0
PRODID:-//NetAuktion//NONSGML NetAuktion//SV
METHOD:PUBLISH
BEGIN:VEVENT
UID:20260421T104355-1015440520-netauktion.se
DTSTAMP:20260421T104355
DTSTART:20121130T013400
DTEND:20121130T013700
SUMMARY:Netauktion objekt 1146-084 Auktionspåminnelse
DESCRIPTION:Länk till objektet du var intresserad av: https://staging.netauktion.se/auktion/produkt/smyckesset-4-delar-queen-garnet-2
END:VEVENT
END:VCALENDAR
