BEGIN:VCALENDAR
VERSION:2.0
PRODID:-//NetAuktion//NONSGML NetAuktion//SV
METHOD:PUBLISH
BEGIN:VEVENT
UID:20260421T102744-1226123799-netauktion.se
DTSTAMP:20260421T102744
DTSTART:20121130T013600
DTEND:20121130T013900
SUMMARY:Netauktion objekt 1146-086 Auktionspåminnelse
DESCRIPTION:Länk till objektet du var intresserad av: https://staging.netauktion.se/auktion/produkt/smyckesset-4-delar-queen-garnet-4
END:VEVENT
END:VCALENDAR
