BEGIN:VCALENDAR
VERSION:2.0
PRODID:-//NetAuktion//NONSGML NetAuktion//SV
METHOD:PUBLISH
BEGIN:VEVENT
UID:20260421T102803-759099600-netauktion.se
DTSTAMP:20260421T102803
DTSTART:20130227T012100
DTEND:20130227T012400
SUMMARY:Netauktion objekt 1146-091 Auktionspåminnelse
DESCRIPTION:Länk till objektet du var intresserad av: https://staging.netauktion.se/auktion/produkt/silverarmband-vintergatan-chance-mm-7
END:VEVENT
END:VCALENDAR
