BEGIN:VCALENDAR
VERSION:2.0
PRODID:-//NetAuktion//NONSGML NetAuktion//SV
METHOD:PUBLISH
BEGIN:VEVENT
UID:20260421T104529-65362366-netauktion.se
DTSTAMP:20260421T104529
DTSTART:20121130T014000
DTEND:20121130T014300
SUMMARY:Netauktion objekt 1146-096 Auktionspåminnelse
DESCRIPTION:Länk till objektet du var intresserad av: https://staging.netauktion.se/auktion/produkt/silverarmband-vintergatan-chance-mm-6
END:VEVENT
END:VCALENDAR
