BEGIN:VCALENDAR
VERSION:2.0
PRODID:-//NetAuktion//NONSGML NetAuktion//SV
METHOD:PUBLISH
BEGIN:VEVENT
UID:20260421T104352-205009420-netauktion.se
DTSTAMP:20260421T104352
DTSTART:20121130T013900
DTEND:20121130T014200
SUMMARY:Netauktion objekt 1146-098 Auktionspåminnelse
DESCRIPTION:Länk till objektet du var intresserad av: https://staging.netauktion.se/auktion/produkt/silverhalsband-ristafallet-med-etui-3
END:VEVENT
END:VCALENDAR
