BEGIN:VCALENDAR
VERSION:2.0
PRODID:-//NetAuktion//NONSGML NetAuktion//SV
METHOD:PUBLISH
BEGIN:VEVENT
UID:20260421T102832-1957794857-netauktion.se
DTSTAMP:20260421T102832
DTSTART:20121130T014100
DTEND:20121130T014400
SUMMARY:Netauktion objekt 1146-102 Auktionspåminnelse
DESCRIPTION:Länk till objektet du var intresserad av: https://staging.netauktion.se/auktion/produkt/smyckeset-love-actually-17mm
END:VEVENT
END:VCALENDAR
