BEGIN:VCALENDAR
VERSION:2.0
PRODID:-//NetAuktion//NONSGML NetAuktion//SV
METHOD:PUBLISH
BEGIN:VEVENT
UID:20260421T102838-2068574683-netauktion.se
DTSTAMP:20260421T102838
DTSTART:20121130T014200
DTEND:20121130T014500
SUMMARY:Netauktion objekt 1146-105 Auktionspåminnelse
DESCRIPTION:Länk till objektet du var intresserad av: https://staging.netauktion.se/auktion/produkt/smyckeset-love-actually-18mm-3
END:VEVENT
END:VCALENDAR
