BEGIN:VCALENDAR
VERSION:2.0
PRODID:-//NetAuktion//NONSGML NetAuktion//SV
METHOD:PUBLISH
BEGIN:VEVENT
UID:20260421T104316-619185317-netauktion.se
DTSTAMP:20260421T104316
DTSTART:20121030T021700
DTEND:20121030T022000
SUMMARY:Netauktion objekt 1257-017 Auktionspåminnelse
DESCRIPTION:Länk till objektet du var intresserad av: https://staging.netauktion.se/auktion/produkt/poly-planar-mp3-kit-a-2
END:VEVENT
END:VCALENDAR
