BEGIN:VCALENDAR
VERSION:2.0
PRODID:-//NetAuktion//NONSGML NetAuktion//SV
METHOD:PUBLISH
BEGIN:VEVENT
UID:20260421T103136-1491484501-netauktion.se
DTSTAMP:20260421T103136
DTSTART:20121030T015000
DTEND:20121030T015300
SUMMARY:Netauktion objekt 1257-042 Auktionspåminnelse
DESCRIPTION:Länk till objektet du var intresserad av: https://staging.netauktion.se/auktion/produkt/poly-planar-3-vagshogtalare-vit-5
END:VEVENT
END:VCALENDAR
