BEGIN:VCALENDAR
VERSION:2.0
PRODID:-//NetAuktion//NONSGML NetAuktion//SV
METHOD:PUBLISH
BEGIN:VEVENT
UID:20260421T104536-1307780295-netauktion.se
DTSTAMP:20260421T104536
DTSTART:20121030T014700
DTEND:20121030T015000
SUMMARY:Netauktion objekt 1257-043 Auktionspåminnelse
DESCRIPTION:Länk till objektet du var intresserad av: https://staging.netauktion.se/auktion/produkt/poly-planar-3-vagshogtalare-vit-2
END:VEVENT
END:VCALENDAR
