BEGIN:VCALENDAR
VERSION:2.0
PRODID:-//NetAuktion//NONSGML NetAuktion//SV
METHOD:PUBLISH
BEGIN:VEVENT
UID:20260421T104434-1429311243-netauktion.se
DTSTAMP:20260421T104434
DTSTART:20121030T014600
DTEND:20121030T014900
SUMMARY:Netauktion objekt 1257-044 Auktionspåminnelse
DESCRIPTION:Länk till objektet du var intresserad av: https://staging.netauktion.se/auktion/produkt/poly-planar-3-vagshogtalare-vit-3
END:VEVENT
END:VCALENDAR
