BEGIN:VCALENDAR
VERSION:2.0
PRODID:-//NetAuktion//NONSGML NetAuktion//SV
METHOD:PUBLISH
BEGIN:VEVENT
UID:20260421T102803-1792908090-netauktion.se
DTSTAMP:20260421T102803
DTSTART:20121030T014400
DTEND:20121030T014700
SUMMARY:Netauktion objekt 1257-046 Auktionspåminnelse
DESCRIPTION:Länk till objektet du var intresserad av: https://staging.netauktion.se/auktion/produkt/poly-planar-koaxialhogtalare-med-infrarod-kontroll-7
END:VEVENT
END:VCALENDAR
