BEGIN:VCALENDAR
VERSION:2.0
PRODID:-//NetAuktion//NONSGML NetAuktion//SV
METHOD:PUBLISH
BEGIN:VEVENT
UID:20260421T104400-1775519624-netauktion.se
DTSTAMP:20260421T104400
DTSTART:20121030T013900
DTEND:20121030T014200
SUMMARY:Netauktion objekt 1257-051 Auktionspåminnelse
DESCRIPTION:Länk till objektet du var intresserad av: https://staging.netauktion.se/auktion/produkt/poly-planar-subwoofer
END:VEVENT
END:VCALENDAR
