BEGIN:VCALENDAR
VERSION:2.0
PRODID:-//NetAuktion//NONSGML NetAuktion//SV
METHOD:PUBLISH
BEGIN:VEVENT
UID:20260421T103030-1946822076-netauktion.se
DTSTAMP:20260421T103030
DTSTART:20121030T013500
DTEND:20121030T013800
SUMMARY:Netauktion objekt 1257-055 Auktionspåminnelse
DESCRIPTION:Länk till objektet du var intresserad av: https://staging.netauktion.se/auktion/produkt/trevagshogtalare-platinum
END:VEVENT
END:VCALENDAR
