BEGIN:VCALENDAR
VERSION:2.0
PRODID:-//NetAuktion//NONSGML NetAuktion//SV
METHOD:PUBLISH
BEGIN:VEVENT
UID:20260421T102933-1835262439-netauktion.se
DTSTAMP:20260421T102933
DTSTART:20121030T013400
DTEND:20121030T013700
SUMMARY:Netauktion objekt 1257-056 Auktionspåminnelse
DESCRIPTION:Länk till objektet du var intresserad av: https://staging.netauktion.se/auktion/produkt/trevagshogtalare-platinum-2
END:VEVENT
END:VCALENDAR
