BEGIN:VCALENDAR
VERSION:2.0
PRODID:-//NetAuktion//NONSGML NetAuktion//SV
METHOD:PUBLISH
BEGIN:VEVENT
UID:20260421T104616-1572805472-netauktion.se
DTSTAMP:20260421T104616
DTSTART:20121030T012800
DTEND:20121030T013100
SUMMARY:Netauktion objekt 1257-062 Auktionspåminnelse
DESCRIPTION:Länk till objektet du var intresserad av: https://staging.netauktion.se/auktion/produkt/trevagshogtalare-titanium-svart-3
END:VEVENT
END:VCALENDAR
