BEGIN:VCALENDAR
VERSION:2.0
PRODID:-//NetAuktion//NONSGML NetAuktion//SV
METHOD:PUBLISH
BEGIN:VEVENT
UID:20260421T104600-1444244736-netauktion.se
DTSTAMP:20260421T104600
DTSTART:20121030T012500
DTEND:20121030T012800
SUMMARY:Netauktion objekt 1257-065 Auktionspåminnelse
DESCRIPTION:Länk till objektet du var intresserad av: https://staging.netauktion.se/auktion/produkt/poly-planar-cd-spelareradio
END:VEVENT
END:VCALENDAR
