BEGIN:VCALENDAR
VERSION:2.0
PRODID:-//NetAuktion//NONSGML NetAuktion//SV
METHOD:PUBLISH
BEGIN:VEVENT
UID:20260421T103007-965904202-netauktion.se
DTSTAMP:20260421T103007
DTSTART:20121030T012000
DTEND:20121030T012300
SUMMARY:Netauktion objekt 1257-070 Auktionspåminnelse
DESCRIPTION:Länk till objektet du var intresserad av: https://staging.netauktion.se/auktion/produkt/relinghogtalare-5
END:VEVENT
END:VCALENDAR
