BEGIN:VCALENDAR
VERSION:2.0
PRODID:-//NetAuktion//NONSGML NetAuktion//SV
METHOD:PUBLISH
BEGIN:VEVENT
UID:20260421T103237-834697983-netauktion.se
DTSTAMP:20260421T103237
DTSTART:20121030T002100
DTEND:20121030T002400
SUMMARY:Netauktion objekt 1257-129 Auktionspåminnelse
DESCRIPTION:Länk till objektet du var intresserad av: https://staging.netauktion.se/auktion/produkt/mrd-70-amfmcdmp3-multikomponentssystem
END:VEVENT
END:VCALENDAR
