BEGIN:VCALENDAR
VERSION:2.0
PRODID:-//NetAuktion//NONSGML NetAuktion//SV
METHOD:PUBLISH
BEGIN:VEVENT
UID:20260421T104634-1559044455-netauktion.se
DTSTAMP:20260421T104634
DTSTART:20121030T001000
DTEND:20121030T001300
SUMMARY:Netauktion objekt 1257-142 Auktionspåminnelse
DESCRIPTION:Länk till objektet du var intresserad av: https://staging.netauktion.se/auktion/produkt/mrd-70-amfmcdmp3-multikomponentssystem-13
END:VEVENT
END:VCALENDAR
