BEGIN:VCALENDAR
VERSION:2.0
PRODID:-//NetAuktion//NONSGML NetAuktion//SV
METHOD:PUBLISH
BEGIN:VEVENT
UID:20260421T104619-345760485-netauktion.se
DTSTAMP:20260421T104619
DTSTART:20121030T000300
DTEND:20121030T000600
SUMMARY:Netauktion objekt 1257-149 Auktionspåminnelse
DESCRIPTION:Länk till objektet du var intresserad av: https://staging.netauktion.se/auktion/produkt/mrr-7-volymkontroll
END:VEVENT
END:VCALENDAR
