BEGIN:VCALENDAR
VERSION:2.0
PRODID:-//NetAuktion//NONSGML NetAuktion//SV
METHOD:PUBLISH
BEGIN:VEVENT
UID:20260421T104600-1985622266-netauktion.se
DTSTAMP:20260421T104600
DTSTART:20130130T025200
DTEND:20130130T025500
SUMMARY:Netauktion objekt 1193-176 Auktionspåminnelse
DESCRIPTION:Länk till objektet du var intresserad av: https://staging.netauktion.se/auktion/produkt/stankskydd-till-stekpanna
END:VEVENT
END:VCALENDAR
