BEGIN:VCALENDAR
VERSION:2.0
PRODID:-//NetAuktion//NONSGML NetAuktion//SV
METHOD:PUBLISH
BEGIN:VEVENT
UID:20260425T134353-679260977-netauktion.se
DTSTAMP:20260425T134353
DTSTART:20090521T010200
DTEND:20090521T010500
SUMMARY:Netauktion objekt 0242-010 Auktionspåminnelse
DESCRIPTION:Länk till objektet du var intresserad av: https://staging.netauktion.se/auktion/produkt/kavajer-vastar-mm
END:VEVENT
END:VCALENDAR
