BEGIN:VCALENDAR
VERSION:2.0
PRODID:-//NetAuktion//NONSGML NetAuktion//SV
METHOD:PUBLISH
BEGIN:VEVENT
UID:20260421T104307-1262394441-netauktion.se
DTSTAMP:20260421T104307
DTSTART:20121228T020100
DTEND:20121228T020400
SUMMARY:Netauktion objekt 1237-091 Auktionspåminnelse
DESCRIPTION:Länk till objektet du var intresserad av: https://staging.netauktion.se/auktion/produkt/tva-vagglampor-fran-konstsmide-9
END:VEVENT
END:VCALENDAR
